BEGIN:VCALENDAR
VERSION:2.0
PRODID:-//Plone.org//NONSGML plone.app.event//EN
X-WR-TIMEZONE:America/Maceio
BEGIN:VEVENT
SUMMARY:Banca de Defesa de Dissertação
DTSTART;TZID=America/Maceio:20221028T143000
DTEND;TZID=America/Maceio:20221028T153000
DTSTAMP:20260421T085628Z
UID:3c118a2c45424167908e0088c79492d1@ip.ufal.br
ATTENDEE;CN="PROF. DR. JEFFERSON DE SOUZA BERNARDES, ORIENTADOR/PRESIDENTE
 ;";ROLE=REQ-PARTICIPANT:PROF. DR. JEFFERSON DE SOUZA BERNARDES, ORIENTADOR
 /PRESIDENTE;
ATTENDEE;CN="PROFA. DRA. LEONEA VITORIA SANTIAGO, IEFE/UFAL, EXTERNA AO PR
 OGRAMA;";ROLE=REQ-PARTICIPANT:PROFA. DRA. LEONEA VITORIA SANTIAGO, IEFE/UF
 AL, EXTERNA AO PROGRAMA;
ATTENDEE;CN="PROFA. DRA. CRISTINA CAMELO DE AZEVEDO, IP/UFAL, EXTERNA AO P
 ROGRAMA.";ROLE=REQ-PARTICIPANT:PROFA. DRA. CRISTINA CAMELO DE AZEVEDO, IP/
 UFAL, EXTERNA AO PROGRAMA.
CREATED:20221213T112636Z
DESCRIPTION:Banca de Defesa de Dissertação da discente Adriana Rêgo Lim
 a Costa\, com o título: “A vida vem em ondas\, como um mar”: Produç
 ão de Sentidos\, Comunicação de Notícias Difíceis e a Equipe de Saúd
 e no Contexto da Covid-19. \; e título em inglês: “Life comes in waves
  like a sea”: Production of Senses\, Communication of Difficult News and
  the Health Team in the Context of Covid-19.
LAST-MODIFIED:20250702T221512Z
LOCATION:Webconferência
URL:https://ip.ufal.br/pt-br/pos-graduacao/pospsico/institucional/calendar
 io-de-defesas/2022/banca-de-defesa-de-dissertacao-23
END:VEVENT
BEGIN:VTIMEZONE
TZID:America/Maceio
X-LIC-LOCATION:America/Maceio
BEGIN:STANDARD
DTSTART:20020216T230000
TZNAME:-03
TZOFFSETFROM:-0200
TZOFFSETTO:-0300
END:STANDARD
END:VTIMEZONE
END:VCALENDAR
