BEGIN:VCALENDAR
VERSION:2.0
PRODID:-//Plone.org//NONSGML plone.app.event//EN
X-WR-TIMEZONE:America/Maceio
BEGIN:VEVENT
SUMMARY:Banca de Defesa de Dissertação
DTSTART;TZID=America/Maceio:20221006T093000
DTEND;TZID=America/Maceio:20221006T103000
DTSTAMP:20260421T085627Z
UID:b8351c1f8aa642a5a914c5840cab11e8@ip.ufal.br
ATTENDEE;CN="PROF. DR. JEFFERSON DE SOUZA BERNARDES, ORIENTADOR/PRESIDENTE
 ;";ROLE=REQ-PARTICIPANT:PROF. DR. JEFFERSON DE SOUZA BERNARDES, ORIENTADOR
 /PRESIDENTE;
ATTENDEE;CN="PROFA. DRA. MARY JANE PARIS SPINK, PUC-SP, EXTERNA À INSTITU
 IÇÃO;";ROLE=REQ-PARTICIPANT:PROFA. DRA. MARY JANE PARIS SPINK, PUC-SP, E
 XTERNA À INSTITUIÇÃO;
ATTENDEE;CN="PROFA. DRA. MARIA AUXILIADORA TEIXEIRA RIBEIRO, PPGP, EXAMINA
 DORA INTERNA.";ROLE=REQ-PARTICIPANT:PROFA. DRA. MARIA AUXILIADORA TEIXEIRA
  RIBEIRO, PPGP, EXAMINADORA INTERNA.
CREATED:20221213T112241Z
DESCRIPTION:Banca de Defesa de Dissertação da discente Fernanda Lemos Vi
 eira\, com o título: “Produção de Sentidos Pós-Transplante Cardíaco
 : Articulações\, Fluxos e Intensidades”\; e título em inglês: Produc
 tion of Senses Postheart Transplantation: joints\, flows and intensities.
LAST-MODIFIED:20250702T221512Z
LOCATION:Webconferência
URL:https://ip.ufal.br/pt-br/pos-graduacao/pospsico/institucional/calendar
 io-de-defesas/2022/banca-de-defesa-de-dissertacao-22
END:VEVENT
BEGIN:VTIMEZONE
TZID:America/Maceio
X-LIC-LOCATION:America/Maceio
BEGIN:STANDARD
DTSTART:20020216T230000
TZNAME:-03
TZOFFSETFROM:-0200
TZOFFSETTO:-0300
END:STANDARD
END:VTIMEZONE
END:VCALENDAR
