BEGIN:VCALENDAR
VERSION:2.0
PRODID:-//Plone.org//NONSGML plone.app.event//EN
X-WR-TIMEZONE:America/Maceio
BEGIN:VEVENT
SUMMARY:Banca de Defesa de Dissertação
DTSTART;TZID=America/Maceio:20221114T140000
DTEND;TZID=America/Maceio:20221114T150000
DTSTAMP:20260421T085631Z
UID:1723c5c70c0d419c9189db0320837b05@ip.ufal.br
ATTENDEE;CN="PROFA. DRA. NADJA MARIA VIEIRA DA SILVA, ORIENTADORA/PRESIDEN
 TE;";ROLE=REQ-PARTICIPANT:PROFA. DRA. NADJA MARIA VIEIRA DA SILVA, ORIENTA
 DORA/PRESIDENTE;
ATTENDEE;CN="PROFA. DRA. EMMANUELLE CHRISTINE CHAVES DA SILVA, UFRPE, EXTE
 RNA À INSTITUIÇÃO.";ROLE=REQ-PARTICIPANT:PROFA. DRA. EMMANUELLE CHRISTI
 NE CHAVES DA SILVA, UFRPE, EXTERNA À INSTITUIÇÃO.
ATTENDEE;CN="PROFA. DRA. MARIA AUXILIADORA TEIXEIRA RIBEIRO, PPGP, EXAMINA
 DORA INTERNA.";ROLE=REQ-PARTICIPANT:PROFA. DRA. MARIA AUXILIADORA TEIXEIRA
  RIBEIRO, PPGP, EXAMINADORA INTERNA.
CREATED:20221010T114208Z
DESCRIPTION:Banca de Defesa de Dissertação da discente Thaís Beril Pime
 ntel Vasconcelos\, com o título: O papel do contato com o olhar para o co
 mpartilhamento da atenção em casos de crianças com Transtorno do Espect
 ro Autista\; e título em inglês: The mutual gazing role to the joint att
 ention in Autistic Spectrum Disorder.
LAST-MODIFIED:20250702T221512Z
LOCATION:Webconferência
URL:https://ip.ufal.br/pt-br/pos-graduacao/pospsico/institucional/calendar
 io-de-defesas/2022/banca-de-defesa-de-dissertacao-21
END:VEVENT
BEGIN:VTIMEZONE
TZID:America/Maceio
X-LIC-LOCATION:America/Maceio
BEGIN:STANDARD
DTSTART:20020216T230000
TZNAME:-03
TZOFFSETFROM:-0200
TZOFFSETTO:-0300
END:STANDARD
END:VTIMEZONE
END:VCALENDAR
