BEGIN:VCALENDAR
VERSION:2.0
PRODID:-//Plone.org//NONSGML plone.app.event//EN
X-WR-TIMEZONE:America/Maceio
BEGIN:VEVENT
SUMMARY:Banca de Defesa de Dissertação
DTSTART;TZID=America/Maceio:20221007T103000
DTEND;TZID=America/Maceio:20221007T113000
DTSTAMP:20260421T085628Z
UID:b0f81814bde84d0bab8b8c1181b5ad29@ip.ufal.br
ATTENDEE;CN="PROF. DR. JEFFERSON DE SOUZA BERNARDES, ORIENTADOR/PRESIDENTE
 ;";ROLE=REQ-PARTICIPANT:PROF. DR. JEFFERSON DE SOUZA BERNARDES, ORIENTADOR
 /PRESIDENTE;
ATTENDEE;CN="PROFA. DRA. SUSANA SOUTO SILVA, FALE/UFAL, EXTERNA AO PROGRAM
 A;";ROLE=REQ-PARTICIPANT:PROFA. DRA. SUSANA SOUTO SILVA, FALE/UFAL, EXTERN
 A AO PROGRAMA;
ATTENDEE;CN="PROF. DR. CHARLES ELIAS LANG, PPGP, EXAMINADOR INTERNO.";ROLE
 =REQ-PARTICIPANT:PROF. DR. CHARLES ELIAS LANG, PPGP, EXAMINADOR INTERNO.
CREATED:20221010T113934Z
DESCRIPTION:Banca de Defesa de Dissertação do discente Fellipe Alves Roc
 ha da Cruz\, com o título: A visita multiprofissional em um Programa de R
 esidência Multiprofissional em Saúde: uma leitura dialógica\; e título
  em inglês: The multiprofessional visit in a Multiprofessional Health Res
 idence Program: a dialogical reading.
LAST-MODIFIED:20250702T221512Z
LOCATION:Webconferência
URL:https://ip.ufal.br/pt-br/pos-graduacao/pospsico/institucional/calendar
 io-de-defesas/2022/banca-de-defesa-de-dissertacao-20
END:VEVENT
BEGIN:VTIMEZONE
TZID:America/Maceio
X-LIC-LOCATION:America/Maceio
BEGIN:STANDARD
DTSTART:20020216T230000
TZNAME:-03
TZOFFSETFROM:-0200
TZOFFSETTO:-0300
END:STANDARD
END:VTIMEZONE
END:VCALENDAR
