BEGIN:VCALENDAR
VERSION:2.0
PRODID:-//Plone.org//NONSGML plone.app.event//EN
X-WR-TIMEZONE:America/Maceio
BEGIN:VEVENT
SUMMARY:Banca de Defesa de Dissertação
DTSTART;TZID=America/Maceio:20221006T143000
DTEND;TZID=America/Maceio:20221006T153000
DTSTAMP:20260421T085628Z
UID:a61cc075488143d9b2479322573dfdb7@ip.ufal.br
ATTENDEE;CN="PROFA. DRA. MARIA AUXILIADORA TEIXEIRA RIBEIRO, ORIENTADORA/P
 RESIDENTE;";ROLE=REQ-PARTICIPANT:PROFA. DRA. MARIA AUXILIADORA TEIXEIRA RI
 BEIRO, ORIENTADORA/PRESIDENTE;
ATTENDEE;CN="PROF. DR. MICHAEL FERREIRA MACHADO, ARAPIRACA/UFAL, EXTERNO A
 O PROGRAMA;";ROLE=REQ-PARTICIPANT:PROF. DR. MICHAEL FERREIRA MACHADO, ARAP
 IRACA/UFAL, EXTERNO AO PROGRAMA;
ATTENDEE;CN="PROF. DR. JEFFERSON DE SOUZA BERNARDES, PPGP, EXAMINADOR INTE
 RNO.";ROLE=REQ-PARTICIPANT:PROF. DR. JEFFERSON DE SOUZA BERNARDES, PPGP, E
 XAMINADOR INTERNO.
CREATED:20221010T113723Z
DESCRIPTION:Banca de Defesa de Dissertação da discente Hygina Coelho Por
 fírio\, com o título: Práticas Psicológicas nas Situações de Riscos 
 e Desastres Socioambientais: O Uso das Tecnologias de Informação e Comun
 icação durante a Pandemia\; e Título em Inglês: Psychological Practice
 s in Risk Situations and Socio-environmental Disasters: The Use of Informa
 tion and Communication Technologies during the Pandemic.
LAST-MODIFIED:20250702T221512Z
LOCATION:Webconferência
URL:https://ip.ufal.br/pt-br/pos-graduacao/pospsico/institucional/calendar
 io-de-defesas/2022/banca-de-defesa-de-dissertacao-19
END:VEVENT
BEGIN:VTIMEZONE
TZID:America/Maceio
X-LIC-LOCATION:America/Maceio
BEGIN:STANDARD
DTSTART:20020216T230000
TZNAME:-03
TZOFFSETFROM:-0200
TZOFFSETTO:-0300
END:STANDARD
END:VTIMEZONE
END:VCALENDAR
