BEGIN:VCALENDAR
VERSION:2.0
PRODID:-//Plone.org//NONSGML plone.app.event//EN
X-WR-TIMEZONE:America/Maceio
BEGIN:VEVENT
SUMMARY:Banca de Defesa de Dissertação
DTSTART;TZID=America/Maceio:20221006T103000
DTEND;TZID=America/Maceio:20221006T113000
DTSTAMP:20260421T085628Z
UID:b4bf4b47ce1d4b909119c6f1f82f36fa@ip.ufal.br
ATTENDEE;CN="PROF. DR. JEFFERSON DE SOUZA BERNARDES, ORIENTADOR/PRESIDENTE
 ;";ROLE=REQ-PARTICIPANT:PROF. DR. JEFFERSON DE SOUZA BERNARDES, ORIENTADOR
 /PRESIDENTE;
ATTENDEE;CN="PROFA. DRA. MARY JANE PARIS SPINK, PUC/SP, EXTERNA À INSTITU
 IÇÃO;";ROLE=REQ-PARTICIPANT:PROFA. DRA. MARY JANE PARIS SPINK, PUC/SP, E
 XTERNA À INSTITUIÇÃO;
ATTENDEE;CN="PROFA. DRA. MARIA AUXILIADORA TEIXEIRA RIBEIRO, PPGP, EXAMINA
 DORA INTERNA.";ROLE=REQ-PARTICIPANT:PROFA. DRA. MARIA AUXILIADORA TEIXEIRA
  RIBEIRO, PPGP, EXAMINADORA INTERNA.
CREATED:20221010T113508Z
DESCRIPTION:Banca de Defesa de Dissertação da discente Fernanda Lemos Vi
 eira\, com o título: Produção de sentidos pós-transplante cardíaco: a
 rticulações\, fluxos e intensidades\; e título em inglês: Production o
 f senses postheart transplantation: joints\, flows and intensities.
LAST-MODIFIED:20250702T221512Z
LOCATION:Webconferência
URL:https://ip.ufal.br/pt-br/pos-graduacao/pospsico/institucional/calendar
 io-de-defesas/2022/banca-de-defesa-de-dissertacao-18
END:VEVENT
BEGIN:VTIMEZONE
TZID:America/Maceio
X-LIC-LOCATION:America/Maceio
BEGIN:STANDARD
DTSTART:20020216T230000
TZNAME:-03
TZOFFSETFROM:-0200
TZOFFSETTO:-0300
END:STANDARD
END:VTIMEZONE
END:VCALENDAR
