BEGIN:VCALENDAR
VERSION:2.0
PRODID:-//Plone.org//NONSGML plone.app.event//EN
X-WR-TIMEZONE:America/Maceio
BEGIN:VEVENT
SUMMARY:Banca de Defesa de Dissertação
DTSTART;TZID=America/Maceio:20220930T090000
DTEND;TZID=America/Maceio:20220930T100000
DTSTAMP:20260420T174845Z
UID:edf9e749beb6478ea4b63b447a700797@ip.ufal.br
ATTENDEE;CN="PROFA. DRA. PAULA ORCHIUCCI MIURA, ORIENTADORA/PRESIDENTE;";R
 OLE=REQ-PARTICIPANT:PROFA. DRA. PAULA ORCHIUCCI MIURA, ORIENTADORA/PRESIDE
 NTE;
ATTENDEE;CN="PROFA. DRA. DORA MARIELA SALCEDO BARRIENTOS, USP, EXTERNA À 
 INSTITUIÇÃO;";ROLE=REQ-PARTICIPANT:PROFA. DRA. DORA MARIELA SALCEDO BARR
 IENTOS, USP, EXTERNA À INSTITUIÇÃO;
ATTENDEE;CN="PROFA. DRA. ANGELINA NUNES DE VASCONCELOS, PPGP, EXAMINADORA 
 INTERNA.";ROLE=REQ-PARTICIPANT:PROFA. DRA. ANGELINA NUNES DE VASCONCELOS, 
 PPGP, EXAMINADORA INTERNA.
CREATED:20221010T113201Z
DESCRIPTION:Banca de Defesa de Dissertação da discente Joelma Correia de
  Sena\, com o título: Mapeamento de programas de atendimento aos homens a
 utores de violência doméstica nos sites dos tribunais de justiça estadu
 ais do Brasil\; e Título em Inglês: Mapping assistance programs for men 
 authors of domestic violence on the websites of state courts of justice in
  Brazil.
LAST-MODIFIED:20250702T221512Z
LOCATION:Webconferência
URL:https://ip.ufal.br/pt-br/pos-graduacao/pospsico/institucional/calendar
 io-de-defesas/2022/banca-de-defesa-de-dissertacao-17
END:VEVENT
BEGIN:VTIMEZONE
TZID:America/Maceio
X-LIC-LOCATION:America/Maceio
BEGIN:STANDARD
DTSTART:20020216T230000
TZNAME:-03
TZOFFSETFROM:-0200
TZOFFSETTO:-0300
END:STANDARD
END:VTIMEZONE
END:VCALENDAR
