BEGIN:VCALENDAR
VERSION:2.0
PRODID:-//Plone.org//NONSGML plone.app.event//EN
X-WR-TIMEZONE:America/Maceio
BEGIN:VEVENT
SUMMARY:Banca de Defesa de Dissertação
DTSTART;TZID=America/Maceio:20220930T140000
DTEND;TZID=America/Maceio:20220930T150000
DTSTAMP:20260421T085628Z
UID:e2f9fc30216e4c2abb2413c1461985f0@ip.ufal.br
ATTENDEE;CN="PROFA. DRA. ERIKA CECÍLIA SOARES OLIVEIRA, ORIENTADORA/PRESI
 DENTE;";ROLE=REQ-PARTICIPANT:PROFA. DRA. ERIKA CECÍLIA SOARES OLIVEIRA, O
 RIENTADORA/PRESIDENTE;
ATTENDEE;CN="PROFA. DRA. LUCIANA RODRIGUES, UFRGS, EXTERNA À INSTITUIÇÃ
 O;";ROLE=REQ-PARTICIPANT:PROFA. DRA. LUCIANA RODRIGUES, UFRGS, EXTERNA À 
 INSTITUIÇÃO;
ATTENDEE;CN="PROF. DR. MARCOS RIBEIRO MESQUITA, PPGP, EXAMINADOR INTERNO."
 ;ROLE=REQ-PARTICIPANT:PROF. DR. MARCOS RIBEIRO MESQUITA, PPGP, EXAMINADOR 
 INTERNO.
CREATED:20221010T112912Z
DESCRIPTION:Banca de Defesa de Dissertação da discente Gislenny Alves\, 
 com o título: “Eu não vou sucumbir”: mulheres negras\, usuárias do 
 CRAS\, no enfrentamento às opressões de raça\, gênero e classe\; e tí
 tulo em inglês: “I will not success”: black women\, users of the CRAS
 \, in the face of race\, gender and class oppressions.
LAST-MODIFIED:20250702T221512Z
LOCATION:Webconferência
URL:https://ip.ufal.br/pt-br/pos-graduacao/pospsico/institucional/calendar
 io-de-defesas/2022/banca-de-defesa-de-dissertacao-16
END:VEVENT
BEGIN:VTIMEZONE
TZID:America/Maceio
X-LIC-LOCATION:America/Maceio
BEGIN:STANDARD
DTSTART:20020216T230000
TZNAME:-03
TZOFFSETFROM:-0200
TZOFFSETTO:-0300
END:STANDARD
END:VTIMEZONE
END:VCALENDAR
