BEGIN:VCALENDAR
VERSION:2.0
PRODID:-//Plone.org//NONSGML plone.app.event//EN
X-WR-TIMEZONE:America/Maceio
BEGIN:VEVENT
SUMMARY:Banca de Defesa de Dissertação
DTSTART;TZID=America/Maceio:20220930T100000
DTEND;TZID=America/Maceio:20220930T110000
DTSTAMP:20260421T085627Z
UID:1b944d73978242bd87f38c5e24da004b@ip.ufal.br
ATTENDEE;CN="PROF. DR. JEFFERSON DE SOUZA BERNARDES, ORIENTADOR/PRESIDENTE
 ;";ROLE=REQ-PARTICIPANT:PROF. DR. JEFFERSON DE SOUZA BERNARDES, ORIENTADOR
 /PRESIDENTE;
ATTENDEE;CN="PROF. DR. BENEDITO MEDRADO DANTAS, UFPE, EXTERNO À INSTITUI
 ÇÃO;";ROLE=REQ-PARTICIPANT:PROF. DR. BENEDITO MEDRADO DANTAS, UFPE, EXTE
 RNO À INSTITUIÇÃO;
ATTENDEE;CN="PROFA. DRA. MARILIA SILVEIRA, PPGP, EXAMINADORA INTERNA.";ROL
 E=REQ-PARTICIPANT:PROFA. DRA. MARILIA SILVEIRA, PPGP, EXAMINADORA INTERNA.
CREATED:20221010T112548Z
DESCRIPTION:Banca de Defesa de Dissertação da discente Fayruz Helou Mart
 ins\, com o título: Posso entrar? A vivência da paternidade em uma Unida
 de Neonatal\; e título em inglês: I can enter? The experience of paterni
 ty in a Unity Neonatal.
LAST-MODIFIED:20250702T221512Z
LOCATION:Webconferência
URL:https://ip.ufal.br/pt-br/pos-graduacao/pospsico/institucional/calendar
 io-de-defesas/2022/banca-de-defesa-de-dissertacao-15
END:VEVENT
BEGIN:VTIMEZONE
TZID:America/Maceio
X-LIC-LOCATION:America/Maceio
BEGIN:STANDARD
DTSTART:20020216T230000
TZNAME:-03
TZOFFSETFROM:-0200
TZOFFSETTO:-0300
END:STANDARD
END:VTIMEZONE
END:VCALENDAR
