BEGIN:VCALENDAR
VERSION:2.0
PRODID:-//Plone.org//NONSGML plone.app.event//EN
X-WR-TIMEZONE:America/Maceio
BEGIN:VEVENT
SUMMARY:Banca de Defesa de Dissertação
DTSTART;TZID=America/Maceio:20220928T140000
DTEND;TZID=America/Maceio:20220928T150000
DTSTAMP:20260421T085628Z
UID:f899358ce9a8470baa21ea93838776de@ip.ufal.br
ATTENDEE;CN="PROF. DR. SAULO LUDERS FERNANDES, ORIENTADOR/PRESIDENTE;";ROL
 E=REQ-PARTICIPANT:PROF. DR. SAULO LUDERS FERNANDES, ORIENTADOR/PRESIDENTE;
ATTENDEE;CN="PROFA. DRA. JAILEILA DE ARAUJO MENEZES, UFPE, EXTERNA À INST
 ITUIÇÃO;";ROLE=REQ-PARTICIPANT:PROFA. DRA. JAILEILA DE ARAUJO MENEZES, U
 FPE, EXTERNA À INSTITUIÇÃO;
ATTENDEE;CN="PROF. DR. MARCOS RIBEIRO MESQUITA, PPGP, EXAMINADOR INTERNO."
 ;ROLE=REQ-PARTICIPANT:PROF. DR. MARCOS RIBEIRO MESQUITA, PPGP, EXAMINADOR 
 INTERNO.
CREATED:20221010T112241Z
DESCRIPTION:Banca de Defesa de Dissertação da discente Liliane Santos Pe
 reira Silva\, com o título: O nosso corpo ecoou: terra-corpo-território 
 de jovens negras quilombolas\; e título em inglês: Our body echoed: eart
 h-body-territory of young black women quilombola.
LAST-MODIFIED:20250702T221512Z
LOCATION:Webconferência
URL:https://ip.ufal.br/pt-br/pos-graduacao/pospsico/institucional/calendar
 io-de-defesas/2022/banca-de-defesa-de-dissertacao-14
END:VEVENT
BEGIN:VTIMEZONE
TZID:America/Maceio
X-LIC-LOCATION:America/Maceio
BEGIN:STANDARD
DTSTART:20020216T230000
TZNAME:-03
TZOFFSETFROM:-0200
TZOFFSETTO:-0300
END:STANDARD
END:VTIMEZONE
END:VCALENDAR
