BEGIN:VCALENDAR
VERSION:2.0
PRODID:-//Plone.org//NONSGML plone.app.event//EN
X-WR-TIMEZONE:America/Maceio
BEGIN:VEVENT
SUMMARY:Banca de Defesa de Dissertação
DTSTART;TZID=America/Maceio:20220927T140000
DTEND;TZID=America/Maceio:20220927T150000
DTSTAMP:20260421T085628Z
UID:3f32a6e7452d4766a9ad748b4c7cb605@ip.ufal.br
ATTENDEE;CN="PROFA. DRA. SUSANE VASCONCELOS ZANOTTI, ORIENTADORA/PRESIDENT
 E;";ROLE=REQ-PARTICIPANT:PROFA. DRA. SUSANE VASCONCELOS ZANOTTI, ORIENTADO
 RA/PRESIDENTE;
ATTENDEE;CN="PROFA. DRA. MARIA VIRGÍNIA FILOMENA CREMASCO, UFPR, EXTERNA 
 À INSTITUIÇÃO;";ROLE=REQ-PARTICIPANT:PROFA. DRA. MARIA VIRGÍNIA FILOME
 NA CREMASCO, UFPR, EXTERNA À INSTITUIÇÃO;
ATTENDEE;CN="PROF. DR. CHARLES ELIAS LANG, PPGP EXAMINADOR INTERNO.";ROLE=
 REQ-PARTICIPANT:PROF. DR. CHARLES ELIAS LANG, PPGP EXAMINADOR INTERNO.
CREATED:20221010T111930Z
DESCRIPTION:Banca de Defesa de Dissertação da discente Iasmin Maria de O
 liveira\, com o título: A morte na linha de frente: a experiência de mé
 dicos durante a pandemia da COVID-19\; e título em inglês: Death on the 
 Front Line: Doctors' Experience During the COVID-19 Pandemic.
LAST-MODIFIED:20250702T221512Z
LOCATION:Webconferência
URL:https://ip.ufal.br/pt-br/pos-graduacao/pospsico/institucional/calendar
 io-de-defesas/2022/banca-de-defesa-de-dissertacao-13
END:VEVENT
BEGIN:VTIMEZONE
TZID:America/Maceio
X-LIC-LOCATION:America/Maceio
BEGIN:STANDARD
DTSTART:20020216T230000
TZNAME:-03
TZOFFSETFROM:-0200
TZOFFSETTO:-0300
END:STANDARD
END:VTIMEZONE
END:VCALENDAR
