BEGIN:VCALENDAR
VERSION:2.0
PRODID:-//Plone.org//NONSGML plone.app.event//EN
X-WR-TIMEZONE:America/Maceio
BEGIN:VEVENT
SUMMARY:Banca de Defesa de Dissertação
DTSTART;TZID=America/Maceio:20220926T140000
DTEND;TZID=America/Maceio:20220926T150000
DTSTAMP:20260421T085628Z
UID:217ce1eee3604f36b829b63246f1117e@ip.ufal.br
ATTENDEE;CN="PROFA. DRA. PAULA ORCHIUCCI MIURA, ORIENTADORA/PRESIDENTE;";R
 OLE=REQ-PARTICIPANT:PROFA. DRA. PAULA ORCHIUCCI MIURA, ORIENTADORA/PRESIDE
 NTE;
ATTENDEE;CN="PROFA. DRA. LEILA SALOMÃO DE LA PLATA CURY TARDIVO, USP, EXT
 ERNA À INSTITUIÇÃO;";ROLE=REQ-PARTICIPANT:PROFA. DRA. LEILA SALOMÃO DE
  LA PLATA CURY TARDIVO, USP, EXTERNA À INSTITUIÇÃO;
ATTENDEE;CN="PROFA. DRA. HELIANE DE ALMEIDA LINS LEITAO, IP/UFAL, EXTERNA 
 AO PROGRAMA.";ROLE=REQ-PARTICIPANT:PROFA. DRA. HELIANE DE ALMEIDA LINS LEI
 TAO, IP/UFAL, EXTERNA AO PROGRAMA.
CREATED:20221010T111458Z
DESCRIPTION:Banca de Defesa de Dissertação da discente Kedma Augusto Mar
 tiniano Santos\, com o título: Os significados das experiências em situa
 ção de pandemia da COVID-19 para os adolescentes\; e título em inglês:
  The meanings of experiences in a COVID-19 pandemic situation for adolesce
 ntes.
LAST-MODIFIED:20250702T221512Z
LOCATION:Webconferência
URL:https://ip.ufal.br/pt-br/pos-graduacao/pospsico/institucional/calendar
 io-de-defesas/2022/banca-de-defesa-de-dissertacao-12
END:VEVENT
BEGIN:VTIMEZONE
TZID:America/Maceio
X-LIC-LOCATION:America/Maceio
BEGIN:STANDARD
DTSTART:20020216T230000
TZNAME:-03
TZOFFSETFROM:-0200
TZOFFSETTO:-0300
END:STANDARD
END:VTIMEZONE
END:VCALENDAR
