BEGIN:VCALENDAR
VERSION:2.0
PRODID:-//Plone.org//NONSGML plone.app.event//EN
X-WR-TIMEZONE:America/Maceio
BEGIN:VEVENT
SUMMARY:Banca de Defesa de Dissertação
DTSTART;TZID=America/Maceio:20220919T140000
DTEND;TZID=America/Maceio:20220919T150000
DTSTAMP:20260421T085628Z
UID:87d65ac3f50b4898b9ae426b5aab3408@ip.ufal.br
ATTENDEE;CN="PROFA. DRA. ANGELINA NUNES DE VASCONCELOS, PRESIDENTE;";ROLE=
 REQ-PARTICIPANT:PROFA. DRA. ANGELINA NUNES DE VASCONCELOS, PRESIDENTE;
ATTENDEE;CN="PROFA. DRA. LIVIA GOMES DOS SANTOS, UFG, EXTERNA À INSTITUI
 ÇÃO;";ROLE=REQ-PARTICIPANT:PROFA. DRA. LIVIA GOMES DOS SANTOS, UFG, EXTE
 RNA À INSTITUIÇÃO;
ATTENDEE;CN="PROFA. DRA. PAULA ORCHIUCCI MIURA, PPGP, EXAMINADORA INTERNA.
 ";ROLE=REQ-PARTICIPANT:PROFA. DRA. PAULA ORCHIUCCI MIURA, PPGP, EXAMINADOR
 A INTERNA.
CREATED:20221010T111048Z
DESCRIPTION:Banca de Defesa de Dissertação do discente Luciano Domingues
  Bueno\, com o título: A alien(ação)\, o contraste com a cri(ação) au
 toral e os modos de produção: uma análise de núcleos de significação
  imagéticos\, no filme Tempos Modernos\; e título em inglês: Alien(acti
 on)\, the contrast with author cre.a(c)tion and modes of production: an an
 alysis of imagetic nucleus of meaning in the film Modern Times.
LAST-MODIFIED:20250702T221512Z
LOCATION:Webconferência
URL:https://ip.ufal.br/pt-br/pos-graduacao/pospsico/institucional/calendar
 io-de-defesas/2022/banca-de-defesa-de-dissertacao-11
END:VEVENT
BEGIN:VTIMEZONE
TZID:America/Maceio
X-LIC-LOCATION:America/Maceio
BEGIN:STANDARD
DTSTART:20020216T230000
TZNAME:-03
TZOFFSETFROM:-0200
TZOFFSETTO:-0300
END:STANDARD
END:VTIMEZONE
END:VCALENDAR
