BEGIN:VCALENDAR
VERSION:2.0
PRODID:-//Plone.org//NONSGML plone.app.event//EN
X-WR-TIMEZONE:America/Maceio
BEGIN:VEVENT
SUMMARY:Banca de Defesa de Dissertação
DTSTART;TZID=America/Maceio:20210119T143000
DTEND;TZID=America/Maceio:20210119T163000
DTSTAMP:20260421T085526Z
UID:0a957f3013ff4660bf925f1e2fedca44@ip.ufal.br
ATTENDEE;CN="Profa. Dra. Nadja Maria Vieira da Silva, PPGP/UFAL, Orientado
 ra;";ROLE=REQ-PARTICIPANT:Profa. Dra. Nadja Maria Vieira da Silva, PPGP/UF
 AL, Orientadora;
ATTENDEE;CN="Profa. Dra. Adriana Cavalcanti dos Santos, CEDU/UFAL, examina
 dora externa ao Programa;";ROLE=REQ-PARTICIPANT:Profa. Dra. Adriana Cavalc
 anti dos Santos, CEDU/UFAL, examinadora externa ao Programa;
ATTENDEE;CN="Profa. Dra. Maria Auxiliadora Teixeira Ribeiro, PPGP/UFAL, ex
 aminadora interna.";ROLE=REQ-PARTICIPANT:Profa. Dra. Maria Auxiliadora Tei
 xeira Ribeiro, PPGP/UFAL, examinadora interna.
CREATED:20210112T165058Z
DESCRIPTION:Banca de Defesa de Dissertação para obtenção do título de
  Mestre de Leilane Silva Ferreira\, com o título:\n"A mediação da Liter
 atura Infantil no processo ensino-aprendizagem de leitura e escrita”\n\n
 Título em Inglês: "THE MEDIATION OF CHILDREN'S LITERATURE IN THE TEACHIN
 G-LEARNING PROCESS OF READING AND WRITING"
LAST-MODIFIED:20250702T221511Z
LOCATION:Webconferência pelo Google Meet
URL:https://ip.ufal.br/pt-br/pos-graduacao/pospsico/institucional/calendar
 io-de-defesas/2021/banca-de-defesa-de-dissertacao
END:VEVENT
BEGIN:VTIMEZONE
TZID:America/Maceio
X-LIC-LOCATION:America/Maceio
BEGIN:STANDARD
DTSTART:20020216T230000
TZNAME:-03
TZOFFSETFROM:-0200
TZOFFSETTO:-0300
END:STANDARD
END:VTIMEZONE
END:VCALENDAR
