BEGIN:VCALENDAR
VERSION:2.0
PRODID:-//Plone.org//NONSGML plone.app.event//EN
X-WR-TIMEZONE:America/Maceio
BEGIN:VEVENT
SUMMARY:Banca de Defesa de Dissertação
DTSTART;TZID=America/Maceio:20210709T100000
DTEND;TZID=America/Maceio:20210709T120000
DTSTAMP:20260421T085526Z
UID:70127b87340243aa89834d6660478812@ip.ufal.br
ATTENDEE;CN="Profa. Dra. Susane Vasconcelos Zanotti, PPGP/UFAL, orientador
 a; Prof. Dr. Nelson da Silva Júnior, USP, examinador externo à Institui
 ção; Profa. Dra. Gabriella Valle Dupim da Silva, UFCG, examinadora exter
 na à Instituição; Prof. Dr. Cleyton Sidney de Andrade, PPGP/UFAL, exami
 nador interno.";ROLE=REQ-PARTICIPANT:Profa. Dra. Susane Vasconcelos Zanott
 i, PPGP/UFAL, orientadora; Prof. Dr. Nelson da Silva Júnior, USP, examina
 dor externo à Instituição; Profa. Dra. Gabriella Valle Dupim da Silva, 
 UFCG, examinadora externa à Instituição; Prof. Dr. Cleyton Sidney de An
 drade, PPGP/UFAL, examinador interno.
CREATED:20210921T124750Z
DESCRIPTION:Banca de Defesa de Dissertação para obtenção do título de
  Mestre de Priscila Gomes de Oliveira\, com o título: “O corpo Trans: u
 m estudo a partir da psicanálise lacaniana”\nTítulo em Inglês: “The
  Trans body: a study from Lacanian psychoanalysis”
LAST-MODIFIED:20250702T221512Z
LOCATION:Webconferência pelo Google Meet
URL:https://ip.ufal.br/pt-br/pos-graduacao/pospsico/institucional/calendar
 io-de-defesas/2021/banca-de-defesa-de-dissertacao-9
END:VEVENT
BEGIN:VTIMEZONE
TZID:America/Maceio
X-LIC-LOCATION:America/Maceio
BEGIN:STANDARD
DTSTART:20020216T230000
TZNAME:-03
TZOFFSETFROM:-0200
TZOFFSETTO:-0300
END:STANDARD
END:VTIMEZONE
END:VCALENDAR
