BEGIN:VCALENDAR
VERSION:2.0
PRODID:-//Plone.org//NONSGML plone.app.event//EN
X-WR-TIMEZONE:America/Maceio
BEGIN:VEVENT
SUMMARY:Banca de Defesa de Dissertação
DTSTART;TZID=America/Maceio:20210520T150000
DTEND;TZID=America/Maceio:20210520T170000
DTSTAMP:20260421T085526Z
UID:8eef4059cecd48ddb67daaf3fddc7ee8@ip.ufal.br
ATTENDEE;CN="Profa. Dra. Simone Maria Huning, PPGP/UFAL, orientadora; Prof
 a. Dra. Anita Guazzelli Bernardes, UCDB, examinadora externa à Instituiç
 ão; Profa. Dra. Mara Cristina Ribeiro, UNCISAL, examinadora externa à In
 stituição; Profa. Dra. Marília Silveira, PPGP/UFAL, examinadora interna
 .";ROLE=REQ-PARTICIPANT:Profa. Dra. Simone Maria Huning, PPGP/UFAL, orient
 adora; Profa. Dra. Anita Guazzelli Bernardes, UCDB, examinadora externa à
  Instituição; Profa. Dra. Mara Cristina Ribeiro, UNCISAL, examinadora ex
 terna à Instituição; Profa. Dra. Marília Silveira, PPGP/UFAL, examinad
 ora interna.
CREATED:20210921T123830Z
DESCRIPTION:Banca de Defesa de Dissertação para obtenção do título de
  Mestre de José Júnior Bezerra da Silva\, com o título: “Biopolítica
  e governo da juventude: um estudo dos planos decenais de atendimento soci
 oeducativo de Maceió e de Alagoas”\nTítulo em Inglês: “Biopolitics 
 and youth government: a study of the decenal socio-educational service pla
 ns of Maceió and Alagoas”
LAST-MODIFIED:20250702T221512Z
LOCATION:Webconferência pelo Google Meet
URL:https://ip.ufal.br/pt-br/pos-graduacao/pospsico/institucional/calendar
 io-de-defesas/2021/banca-de-defesa-de-dissertacao-8
END:VEVENT
BEGIN:VTIMEZONE
TZID:America/Maceio
X-LIC-LOCATION:America/Maceio
BEGIN:STANDARD
DTSTART:20020216T230000
TZNAME:-03
TZOFFSETFROM:-0200
TZOFFSETTO:-0300
END:STANDARD
END:VTIMEZONE
END:VCALENDAR
