BEGIN:VCALENDAR
VERSION:2.0
PRODID:-//Plone.org//NONSGML plone.app.event//EN
X-WR-TIMEZONE:America/Maceio
BEGIN:VEVENT
SUMMARY:Banca de Defesa de Dissertação
DTSTART;TZID=America/Maceio:20210426T140000
DTEND;TZID=America/Maceio:20210426T160000
DTSTAMP:20260421T085526Z
UID:352b39d3167544fa9d4287b60664c23b@ip.ufal.br
ATTENDEE;CN="Profa. Dra. Adelia Augusta Souto de Oliveira, PPGP/UFAL, orie
 ntadora;  Profa. Dra. Lavinia Lopes Salomão Magiolino, UNICAMP, examinado
 ra externa à Instituição; Profa. Dra. Cristina Camelo de Azevedo, IP, e
 xaminadora externa ao Programa; Profa. Dra. Paula Orchiucci Miura, PPGP/UF
 AL, examinadora interna.";ROLE=REQ-PARTICIPANT:Profa. Dra. Adelia Augusta 
 Souto de Oliveira, PPGP/UFAL, orientadora;  Profa. Dra. Lavinia Lopes Salo
 mão Magiolino, UNICAMP, examinadora externa à Instituição; Profa. Dra.
  Cristina Camelo de Azevedo, IP, examinadora externa ao Programa; Profa. D
 ra. Paula Orchiucci Miura, PPGP/UFAL, examinadora interna.
CREATED:20210921T122728Z
DESCRIPTION:Banca de Defesa de Dissertação para obtenção do título de
  Mestre de Camila do Nascimento Lins Buarque\, com o título: "Clínica da
  Atividade: Uma metassíntese a partir de artigos acadêmicos da área da 
 psicologia nas bases de dados SCIELO e BVS"\nTítulo em Inglês: "Clinic o
 f Activity: A metasynthesis from academic articles from the area of psycho
 logy in the SCIELO and BSV databases"
LAST-MODIFIED:20250702T221512Z
LOCATION:Webconferência pelo Google Meet
URL:https://ip.ufal.br/pt-br/pos-graduacao/pospsico/institucional/calendar
 io-de-defesas/2021/banca-de-defesa-de-dissertacao-7
END:VEVENT
BEGIN:VTIMEZONE
TZID:America/Maceio
X-LIC-LOCATION:America/Maceio
BEGIN:STANDARD
DTSTART:20020216T230000
TZNAME:-03
TZOFFSETFROM:-0200
TZOFFSETTO:-0300
END:STANDARD
END:VTIMEZONE
END:VCALENDAR
