BEGIN:VCALENDAR
VERSION:2.0
PRODID:-//Plone.org//NONSGML plone.app.event//EN
X-WR-TIMEZONE:America/Maceio
BEGIN:VEVENT
SUMMARY:Banca de Defesa de Dissertação
DTSTART;TZID=America/Maceio:20210226T090000
DTEND;TZID=America/Maceio:20210226T110000
DTSTAMP:20260421T085526Z
UID:fe111b3009fe4b68818f2e651a4553e6@ip.ufal.br
ATTENDEE;CN="Prof Dr. Saulo Luders Fernandes, PPGP/UFAL, orientador; Profa
 . Dra.  Dolores Cristina Gómes Galindo, UFMT, examinadora externa à Inst
 ituição; Prof. Dr. Jefferson de Souza Bernardes, PPGP/UFAL, examinador i
 netrno.";ROLE=REQ-PARTICIPANT:Prof Dr. Saulo Luders Fernandes, PPGP/UFAL, 
 orientador; Profa. Dra.  Dolores Cristina Gómes Galindo, UFMT, examinador
 a externa à Instituição; Prof. Dr. Jefferson de Souza Bernardes, PPGP/U
 FAL, examinador inetrno.
CREATED:20210921T120524Z
DESCRIPTION:Banca de Defesa de Dissertação para obtenção do título de
  Mestre de Raul Santos Brito\, com o título: "Práticas de cuidado em sa
 úde numa comunidade quilombola do agreste alagoano"\n\nTítulo em Inglês
 : "Health care practices in a quilombola community in rural Alagoas"
LAST-MODIFIED:20250702T221512Z
LOCATION:Webconferência pelo Google Meet
URL:https://ip.ufal.br/pt-br/pos-graduacao/pospsico/institucional/calendar
 io-de-defesas/2021/banca-de-defesa-de-dissertacao-5
END:VEVENT
BEGIN:VTIMEZONE
TZID:America/Maceio
X-LIC-LOCATION:America/Maceio
BEGIN:STANDARD
DTSTART:20020216T230000
TZNAME:-03
TZOFFSETFROM:-0200
TZOFFSETTO:-0300
END:STANDARD
END:VTIMEZONE
END:VCALENDAR
