BEGIN:VCALENDAR
VERSION:2.0
PRODID:-//Plone.org//NONSGML plone.app.event//EN
X-WR-TIMEZONE:America/Maceio
BEGIN:VEVENT
SUMMARY:Banca de Defesa de Dissertação
DTSTART;TZID=America/Maceio:20210226T130000
DTEND;TZID=America/Maceio:20210226T150000
DTSTAMP:20260421T085526Z
UID:7ab05b40d99d4c1b808b1c403a640752@ip.ufal.br
ATTENDEE;CN="Prof. Dr. Jefferson de Souza Bernardes, PPGP/UFAL, Orientador
 ; Profa. Dra. Laura Camargo Macruz Feuerwerker, USP, examinadora externa 
 à Instituição; Profa. Dra. Marília Silveira, PPGP/UFAL, examinadora in
 terna.";ROLE=REQ-PARTICIPANT:Prof. Dr. Jefferson de Souza Bernardes, PPGP/
 UFAL, Orientador; Profa. Dra. Laura Camargo Macruz Feuerwerker, USP, exami
 nadora externa à Instituição; Profa. Dra. Marília Silveira, PPGP/UFAL,
  examinadora interna.
CREATED:20210921T115756Z
DESCRIPTION:Banca de Defesa de Dissertação para obtenção do título de
  Mestre de Maria Karoline Ferreira dos Santos Duarte\, com o título: "Res
 idências Multiprofissionais em Saúde no Brasil: uma análise em torno de
  controvérsias".\n\nTítulo em Inglês: "Multiprofessional Residencies in
  Brazil: an analysis around controversies"
LAST-MODIFIED:20250702T221512Z
LOCATION:Webconferência pelo Google Meet
URL:https://ip.ufal.br/pt-br/pos-graduacao/pospsico/institucional/calendar
 io-de-defesas/2021/banca-de-defesa-de-dissertacao-4
END:VEVENT
BEGIN:VTIMEZONE
TZID:America/Maceio
X-LIC-LOCATION:America/Maceio
BEGIN:STANDARD
DTSTART:20020216T230000
TZNAME:-03
TZOFFSETFROM:-0200
TZOFFSETTO:-0300
END:STANDARD
END:VTIMEZONE
END:VCALENDAR
