BEGIN:VCALENDAR
VERSION:2.0
PRODID:-//Plone.org//NONSGML plone.app.event//EN
X-WR-TIMEZONE:America/Maceio
BEGIN:VEVENT
SUMMARY:Banca de Defesa de Dissertação
DTSTART;TZID=America/Maceio:20210222T140000
DTEND;TZID=America/Maceio:20210222T160000
DTSTAMP:20260421T085526Z
UID:be20b01b9547474c83d5d8a34018a93e@ip.ufal.br
ATTENDEE;CN="Profa. Dra. Maria Auxiliadora Teixeira Ribeiro, PPGP/UFAL, Or
 ientadora; Profa. Dra. Mary Jane Paris Spink, PUC-SP, examinadora externa 
 à Instituição; Prof. Dr. Mário Henrique da Mata Martins, PUC-SP; Profa
 . Dra. Marília Silveira, PPGP/UFAL, examinadora interna.";ROLE=REQ-PARTIC
 IPANT:Profa. Dra. Maria Auxiliadora Teixeira Ribeiro, PPGP/UFAL, Orientado
 ra; Profa. Dra. Mary Jane Paris Spink, PUC-SP, examinadora externa à Inst
 ituição; Prof. Dr. Mário Henrique da Mata Martins, PUC-SP; Profa. Dra. 
 Marília Silveira, PPGP/UFAL, examinadora interna.
CREATED:20210921T105558Z
DESCRIPTION:Banca de Defesa de Dissertação para obtenção do título de
  Mestre de Erianne Gomes dos Santos\, com o título: "PARA ALÉM DAS RACHA
 DURAS: as ações da comunidade no enfrentamento da situação de risco\ns
 ocioambiental no bairro do Pinheiro em Maceió-AL".\n\nTítulo em Inglês:
  "BEYOND CRACKS: the community's actions to face the risk situation enviro
 nmental development in the Pinheiro neighborhood in Maceió-AL"
LAST-MODIFIED:20250702T221511Z
LOCATION:Webconferência pelo Google Meet
URL:https://ip.ufal.br/pt-br/pos-graduacao/pospsico/institucional/calendar
 io-de-defesas/2021/banca-de-defesa-de-dissertacao-3
END:VEVENT
BEGIN:VTIMEZONE
TZID:America/Maceio
X-LIC-LOCATION:America/Maceio
BEGIN:STANDARD
DTSTART:20020216T230000
TZNAME:-03
TZOFFSETFROM:-0200
TZOFFSETTO:-0300
END:STANDARD
END:VTIMEZONE
END:VCALENDAR
