BEGIN:VCALENDAR
VERSION:2.0
PRODID:-//Plone.org//NONSGML plone.app.event//EN
X-WR-TIMEZONE:America/Maceio
BEGIN:VEVENT
SUMMARY:Banca de Defesa de Dissertação
DTSTART;TZID=America/Maceio:20211021T140000
DTEND;TZID=America/Maceio:20211021T160000
DTSTAMP:20260421T085526Z
UID:57cabb720a084e6fb17a4e03d18bfbc8@ip.ufal.br
ATTENDEE;CN="Profa. Dra. Sheyla Christine Santos Fernandes, PPGP/UFAL, ori
 entadora; Prof. Dr. Helder Cerqueira Santos		UFS, examinador externo à In
 stituição; Prof. Dr. Leogildo Alves Freires, PPGP/UFAL, examinador inter
 no.";ROLE=REQ-PARTICIPANT:Profa. Dra. Sheyla Christine Santos Fernandes, P
 PGP/UFAL, orientadora; Prof. Dr. Helder Cerqueira Santos		UFS, examinador 
 externo à Instituição; Prof. Dr. Leogildo Alves Freires, PPGP/UFAL, exa
 minador interno.
CREATED:20211108T131845Z
DESCRIPTION:Banca de Defesa de Dissertação para obtenção do título de
  Mestre de João Victor Pessanha Ferreira\, com o título: "A intenção d
 e utilizar o aplicativo Tinder: um estudo na perscpectiva da Teoria da Aç
 ão Planejada"\; \nTítulo em Inglês: "The intention of using the Tinder 
 application: a study from the perspective of the Theory of Planned Action"
LAST-MODIFIED:20250702T221512Z
LOCATION:Webconferência pelo Google Meet
URL:https://ip.ufal.br/pt-br/pos-graduacao/pospsico/institucional/calendar
 io-de-defesas/2021/banca-de-defesa-de-dissertacao-20
END:VEVENT
BEGIN:VTIMEZONE
TZID:America/Maceio
X-LIC-LOCATION:America/Maceio
BEGIN:STANDARD
DTSTART:20020216T230000
TZNAME:-03
TZOFFSETFROM:-0200
TZOFFSETTO:-0300
END:STANDARD
END:VTIMEZONE
END:VCALENDAR
