BEGIN:VCALENDAR
VERSION:2.0
PRODID:-//Plone.org//NONSGML plone.app.event//EN
X-WR-TIMEZONE:America/Maceio
BEGIN:VEVENT
SUMMARY:Banca de Defesa de Dissertação
DTSTART;TZID=America/Maceio:20210128T140000
DTEND;TZID=America/Maceio:20210128T160000
DTSTAMP:20260421T085527Z
UID:3cdb300cc1b940e7af43207836bbee1d@ip.ufal.br
ATTENDEE;CN="Prof. Dr. Cleyton Sidney de Andrade, PPGP/UFAL, Orientador; P
 rofa. Dra. Ivone Maia de Mello, UEFS, examinadora externa à Instituição
 ; Profa. Dra. Érika Cecília Soares Oliveira, PPGP/UFAL, examinadora inte
 rna; Prof. Dr. Saulo Luders Fernandes, examinador interno.";ROLE=REQ-PARTI
 CIPANT:Prof. Dr. Cleyton Sidney de Andrade, PPGP/UFAL, Orientador; Profa. 
 Dra. Ivone Maia de Mello, UEFS, examinadora externa à Instituição; Prof
 a. Dra. Érika Cecília Soares Oliveira, PPGP/UFAL, examinadora interna; P
 rof. Dr. Saulo Luders Fernandes, examinador interno.
CREATED:20210921T104547Z
DESCRIPTION:Banca de Defesa de Dissertação para obtenção do título de
  Mestre de Juliana Borges de Oliveira\, com o título: "Da senzala ao Sist
 ema Prisional: a institucionalização do racismo no Brasil".\n\nTítulo e
 m Inglês: "From the slave quarters to the Prison System: the institutiona
 lization of racism in Brazil"
LAST-MODIFIED:20250702T221511Z
LOCATION:Google Meet
URL:https://ip.ufal.br/pt-br/pos-graduacao/pospsico/institucional/calendar
 io-de-defesas/2021/banca-de-defesa-de-dissertacao-2
END:VEVENT
BEGIN:VTIMEZONE
TZID:America/Maceio
X-LIC-LOCATION:America/Maceio
BEGIN:STANDARD
DTSTART:20020216T230000
TZNAME:-03
TZOFFSETFROM:-0200
TZOFFSETTO:-0300
END:STANDARD
END:VTIMEZONE
END:VCALENDAR
