BEGIN:VCALENDAR
VERSION:2.0
PRODID:-//Plone.org//NONSGML plone.app.event//EN
X-WR-TIMEZONE:America/Maceio
BEGIN:VEVENT
SUMMARY:Banca de Defesa de Dissertação
DTSTART;TZID=America/Maceio:20211014T143000
DTEND;TZID=America/Maceio:20211014T163000
DTSTAMP:20260421T085631Z
UID:7875957fd953472d8299e1bafccbdc71@ip.ufal.br
ATTENDEE;CN="Profa. Dra. Nadja Maria Vieira da Silva, PPGP/UFAL, Orientado
 ra; Prof. Dr. Henrique Jorge Simões Bezerra, UFPB, examinador externo à 
 Instituição; Profa. Dra. Angelina Nunes de Vasconcelos, PPGP/UFAL, exami
 nadora interna.";ROLE=REQ-PARTICIPANT:Profa. Dra. Nadja Maria Vieira da Si
 lva, PPGP/UFAL, Orientadora; Prof. Dr. Henrique Jorge Simões Bezerra, UFP
 B, examinador externo à Instituição; Profa. Dra. Angelina Nunes de Vasc
 oncelos, PPGP/UFAL, examinadora interna.
CREATED:20210922T142356Z
DESCRIPTION:Banca de Defesa de Dissertação para obtenção do título de
  Mestre de Rodrigo Pimentel Gomes Ramos\, com o título: "Avaliação da a
 prendizagem: implicações de processos narrativos ao fomento de Zonas de 
 Desenvolvimento Proximal”. \nTítulo em Inglês: “Learning assessment:
  implications of narrative processes to foment Zones of Proximal Developme
 nt”
LAST-MODIFIED:20250702T221512Z
LOCATION:Webconferência pelo Google Meet
URL:https://ip.ufal.br/pt-br/pos-graduacao/pospsico/institucional/calendar
 io-de-defesas/2021/banca-de-defesa-de-dissertacao-19
END:VEVENT
BEGIN:VTIMEZONE
TZID:America/Maceio
X-LIC-LOCATION:America/Maceio
BEGIN:STANDARD
DTSTART:20020216T230000
TZNAME:-03
TZOFFSETFROM:-0200
TZOFFSETTO:-0300
END:STANDARD
END:VTIMEZONE
END:VCALENDAR
