BEGIN:VCALENDAR
VERSION:2.0
PRODID:-//Plone.org//NONSGML plone.app.event//EN
X-WR-TIMEZONE:America/Maceio
BEGIN:VEVENT
SUMMARY:Banca de Defesa de Dissertação
DTSTART;TZID=America/Maceio:20211001T160000
DTEND;TZID=America/Maceio:20211001T180000
DTSTAMP:20260421T085631Z
UID:71c5a09cc4cb44458ab65dad64b21467@ip.ufal.br
ATTENDEE;CN="Profa. Dra. Sheyla Christine Santos Fernandes, PPGP/UFAL, ori
 entadora; Prof. Dr. Ludgleydson Fernandes de Araújo, UFDPar, examinador e
 xterno à Instituição; Profa. Dra. Josevânia da Silva, UEPB, examinador
 a externa à instituição.";ROLE=REQ-PARTICIPANT:Profa. Dra. Sheyla Chris
 tine Santos Fernandes, PPGP/UFAL, orientadora; Prof. Dr. Ludgleydson Ferna
 ndes de Araújo, UFDPar, examinador externo à Instituição; Profa. Dra. 
 Josevânia da Silva, UEPB, examinadora externa à instituição.
CREATED:20210921T144653Z
DESCRIPTION:Banca de Defesa de Dissertação para obtenção do título de
  Mestre de Nycolas Emanuel Tavares de Lira\, com o título: “Ageísmo no
 s cuidados de saúde: a infantilização da pessoa idosa à luz da Teoria 
 da Ação Planejada”. Título em Inglês: “Ageism in health care: the 
 infantilization of elderly people in light of the Theory of Planned Action
 ”.
LAST-MODIFIED:20250702T221512Z
LOCATION:Webconferência pelo Google Meet
URL:https://ip.ufal.br/pt-br/pos-graduacao/pospsico/institucional/calendar
 io-de-defesas/2021/banca-de-defesa-de-dissertacao-18
END:VEVENT
BEGIN:VTIMEZONE
TZID:America/Maceio
X-LIC-LOCATION:America/Maceio
BEGIN:STANDARD
DTSTART:20020216T230000
TZNAME:-03
TZOFFSETFROM:-0200
TZOFFSETTO:-0300
END:STANDARD
END:VTIMEZONE
END:VCALENDAR
