BEGIN:VCALENDAR
VERSION:2.0
PRODID:-//Plone.org//NONSGML plone.app.event//EN
X-WR-TIMEZONE:America/Maceio
BEGIN:VEVENT
SUMMARY:Banca de Defesa de Dissertação
DTSTART;TZID=America/Maceio:20210930T143000
DTEND;TZID=America/Maceio:20210930T163000
DTSTAMP:20260421T085631Z
UID:d376222a90944809933a55be1e6625af@ip.ufal.br
ATTENDEE;CN="Profa. Dra. Nadja Maria Vieira da Silva, PPGP/UFAL, orientado
 ra; Profa. Dra. Rita de Cassia Souto Maior Siqueira Lima, UFAL, examinador
 a externa ao Programa; Prof. Dr. Jefferson de Souza Bernardes, PPGP/UFAL, 
 examinador interno.";ROLE=REQ-PARTICIPANT:Profa. Dra. Nadja Maria Vieira d
 a Silva, PPGP/UFAL, orientadora; Profa. Dra. Rita de Cassia Souto Maior Si
 queira Lima, UFAL, examinadora externa ao Programa; Prof. Dr. Jefferson de
  Souza Bernardes, PPGP/UFAL, examinador interno.
CREATED:20210921T144405Z
DESCRIPTION:Banca de Defesa de Dissertação para obtenção do título de
  Mestre de Andréa Adriana da Silva\, com o título: “Transição de cul
 turas na reabilitação auditiva: narrativas autobiográficas da pessoa co
 m surdez”. Título em Inglês\; “Transition of cultures in hearing reh
 abilitation: autobiographical narratives of the deaf person”
LAST-MODIFIED:20250702T221512Z
LOCATION:Webconferência pelo Google Meet
URL:https://ip.ufal.br/pt-br/pos-graduacao/pospsico/institucional/calendar
 io-de-defesas/2021/banca-de-defesa-de-dissertacao-17
END:VEVENT
BEGIN:VTIMEZONE
TZID:America/Maceio
X-LIC-LOCATION:America/Maceio
BEGIN:STANDARD
DTSTART:20020216T230000
TZNAME:-03
TZOFFSETFROM:-0200
TZOFFSETTO:-0300
END:STANDARD
END:VTIMEZONE
END:VCALENDAR
