BEGIN:VCALENDAR
VERSION:2.0
PRODID:-//Plone.org//NONSGML plone.app.event//EN
X-WR-TIMEZONE:America/Maceio
BEGIN:VEVENT
SUMMARY:Banca de Defesa de Dissertação
DTSTART;TZID=America/Maceio:20210930T100000
DTEND;TZID=America/Maceio:20210930T120000
DTSTAMP:20260421T085631Z
UID:c49672a38aef4926b1cce2a159f24d42@ip.ufal.br
ATTENDEE;CN="Profa. Dra. Sheyla Christine Santos Fernandes, PPGP/UFAL, ori
 entadora; Profa. Dra. Raquel Pereira Belo, UFPI, examinadora externa à In
 stituição; Prof. Dr. Antonio Carlos Silva Costa, UFAL, examinador extern
 o ao Programa.";ROLE=REQ-PARTICIPANT:Profa. Dra. Sheyla Christine Santos F
 ernandes, PPGP/UFAL, orientadora; Profa. Dra. Raquel Pereira Belo, UFPI, e
 xaminadora externa à Instituição; Prof. Dr. Antonio Carlos Silva Costa,
  UFAL, examinador externo ao Programa.
CREATED:20210921T143847Z
DESCRIPTION:Banca de Defesa de Dissertação para obtenção do título de
  Mestre de Renata de Oliveira Andrade\, com o título: “Sexismo no ambie
 nte de trabalho: um estudo à luz da Teoria da Ação Planejada”. Títul
 o em Inglês: “Sexism in the workplace: a study based on the Theory of P
 lanned Behavior”
LAST-MODIFIED:20250702T221512Z
LOCATION:Webconferência pelo Google Meet
URL:https://ip.ufal.br/pt-br/pos-graduacao/pospsico/institucional/calendar
 io-de-defesas/2021/banca-de-defesa-de-dissertacao-16
END:VEVENT
BEGIN:VTIMEZONE
TZID:America/Maceio
X-LIC-LOCATION:America/Maceio
BEGIN:STANDARD
DTSTART:20020216T230000
TZNAME:-03
TZOFFSETFROM:-0200
TZOFFSETTO:-0300
END:STANDARD
END:VTIMEZONE
END:VCALENDAR
