BEGIN:VCALENDAR
VERSION:2.0
PRODID:-//Plone.org//NONSGML plone.app.event//EN
X-WR-TIMEZONE:America/Maceio
BEGIN:VEVENT
SUMMARY:Banca de Defesa de Dissertação
DTSTART;TZID=America/Maceio:20210927T140000
DTEND;TZID=America/Maceio:20210927T160000
DTSTAMP:20260421T085631Z
UID:5880659100184cf68c0ee2cbc225f72a@ip.ufal.br
ATTENDEE;CN="Profa. Dra. Adelia Augusta Souto de Oliveira, PPGP/UFAL, orie
 ntadora; Profa. Dra. Dorian Monica Arpini, UFSM, examinadora externa à in
 stituição; Profa. Dra. Paula Orchiucci Miura, PPGP/UFAL, examinadora int
 erna.";ROLE=REQ-PARTICIPANT:Profa. Dra. Adelia Augusta Souto de Oliveira, 
 PPGP/UFAL, orientadora; Profa. Dra. Dorian Monica Arpini, UFSM, examinador
 a externa à instituição; Profa. Dra. Paula Orchiucci Miura, PPGP/UFAL, 
 examinadora interna.
CREATED:20210921T143406Z
DESCRIPTION:Banca de Defesa de Dissertação para obtenção do título de
  Mestre de Ana Luiza de Moura Fernandes\, com o título: “ Conceito de a
 doção na pós-graduação brasileira de Psicologia: família\, justiça 
 e afeto”. Título em Inglês: “The concept of adoption in the Brazilia
 n postgraduate program in Psychology: family\, justice and affection”.
LAST-MODIFIED:20250702T221512Z
LOCATION:Webconferência pelo Google Meet
URL:https://ip.ufal.br/pt-br/pos-graduacao/pospsico/institucional/calendar
 io-de-defesas/2021/banca-de-defesa-de-dissertacao-15
END:VEVENT
BEGIN:VTIMEZONE
TZID:America/Maceio
X-LIC-LOCATION:America/Maceio
BEGIN:STANDARD
DTSTART:20020216T230000
TZNAME:-03
TZOFFSETFROM:-0200
TZOFFSETTO:-0300
END:STANDARD
END:VTIMEZONE
END:VCALENDAR
