BEGIN:VCALENDAR
VERSION:2.0
PRODID:-//Plone.org//NONSGML plone.app.event//EN
X-WR-TIMEZONE:America/Maceio
BEGIN:VEVENT
SUMMARY:Banca de Defesa de Dissertação
DTSTART;TZID=America/Maceio:20210831T140000
DTEND;TZID=America/Maceio:20210831T160000
DTSTAMP:20260421T103014Z
UID:6cc5ddbcc9264388a4c30a98cfcbd9f8@ip.ufal.br
ATTENDEE;CN="Profa. Dra. Adelia Augusta Souto de Oliveira, PPGP/UFAL, orie
 ntadora; Profa. Dra. Maria Ignês Costa Moreira, PUC/MG, examinadora exter
 na à Instituição; Tatiana Machiavelli Carmo Souza UFG examinadora exter
 na à Instituição; Profa. Dra. Paula Orchiucci Miura, PPGP/UFAL, examina
 dora interna.";ROLE=REQ-PARTICIPANT:Profa. Dra. Adelia Augusta Souto de Ol
 iveira, PPGP/UFAL, orientadora; Profa. Dra. Maria Ignês Costa Moreira, PU
 C/MG, examinadora externa à Instituição; Tatiana Machiavelli Carmo Souz
 a UFG examinadora externa à Instituição; Profa. Dra. Paula Orchiucci Mi
 ura, PPGP/UFAL, examinadora interna.
CREATED:20210921T133107Z
DESCRIPTION:Banca de Defesa de Dissertação para obtenção do título de
  Mestre de Maria Laura Barros da Rocha\, com o título: “Sentidos e sign
 ificados da intersexualidade na literatura: silenciamentos da vida e da ar
 te”.\nTítulo em Inglês: “Senses and meanings of intersexuality in li
 terature: silencing of life and of art”.
LAST-MODIFIED:20250702T221512Z
LOCATION:Webconferência pelo Google Meet
URL:https://ip.ufal.br/pt-br/pos-graduacao/pospsico/institucional/calendar
 io-de-defesas/2021/banca-de-defesa-de-dissertacao-14
END:VEVENT
BEGIN:VTIMEZONE
TZID:America/Maceio
X-LIC-LOCATION:America/Maceio
BEGIN:STANDARD
DTSTART:20020216T230000
TZNAME:-03
TZOFFSETFROM:-0200
TZOFFSETTO:-0300
END:STANDARD
END:VTIMEZONE
END:VCALENDAR
