BEGIN:VCALENDAR
VERSION:2.0
PRODID:-//Plone.org//NONSGML plone.app.event//EN
X-WR-TIMEZONE:America/Maceio
BEGIN:VEVENT
SUMMARY:Banca de Defesa de Dissertação
DTSTART;TZID=America/Maceio:20210827T140000
DTEND;TZID=America/Maceio:20210827T160000
DTSTAMP:20260421T103014Z
UID:c7c836a9866041628d059749cdfb2a1d@ip.ufal.br
ATTENDEE;CN="Profa. Dra. Erika Cecília Soares Oliveira, PPGP/UFAL, orient
 adora; Profa. Dra. Miriam Cristiane Alves, UFPel, examinadora externa à I
 nstituição; Profa. Dra. Simone Maria Huning, PPGP/UFAL, examinadora inte
 rna.";ROLE=REQ-PARTICIPANT:Profa. Dra. Erika Cecília Soares Oliveira, PPG
 P/UFAL, orientadora; Profa. Dra. Miriam Cristiane Alves, UFPel, examinador
 a externa à Instituição; Profa. Dra. Simone Maria Huning, PPGP/UFAL, ex
 aminadora interna.
CREATED:20210921T132220Z
DESCRIPTION:Banca de Defesa de Dissertação para obtenção do título de
  Mestre de Leticia Taynara dos Santos Silva\, com o título: “Entre mula
 tas e moreninhas: constituição identitária e processos de autoafirmaç
 ão de mulheres negras nas redes sociais”.\nTítulo em Inglês: “Betwe
 en mulatas and moreninhas: identity constitution and self-affirmation proc
 esses of black women in social media”
LAST-MODIFIED:20250702T221512Z
LOCATION:Webconferência pelo Google Meet
URL:https://ip.ufal.br/pt-br/pos-graduacao/pospsico/institucional/calendar
 io-de-defesas/2021/banca-de-defesa-de-dissertacao-13
END:VEVENT
BEGIN:VTIMEZONE
TZID:America/Maceio
X-LIC-LOCATION:America/Maceio
BEGIN:STANDARD
DTSTART:20020216T230000
TZNAME:-03
TZOFFSETFROM:-0200
TZOFFSETTO:-0300
END:STANDARD
END:VTIMEZONE
END:VCALENDAR
