BEGIN:VCALENDAR
VERSION:2.0
PRODID:-//Plone.org//NONSGML plone.app.event//EN
X-WR-TIMEZONE:America/Maceio
BEGIN:VEVENT
SUMMARY:Banca de Defesa de Dissertação
DTSTART;TZID=America/Maceio:20210721T143000
DTEND;TZID=America/Maceio:20210721T163000
DTSTAMP:20260421T085631Z
UID:e742040d6f274773a6aa17b8995d4509@ip.ufal.br
ATTENDEE;CN="Profa. Dra. Nadja Maria Vieira da Silva, PPGP/UFAL, orientado
 ra; Prof. Dr. Henrique Jorge Simões Bezerra, UFPB, examinador externo à 
 Instituição; Profa. Dra. Maria Auxiliadora Teixeira Ribeiro, PPGP/UFAL, 
 examinadora interna.";ROLE=REQ-PARTICIPANT:Profa. Dra. Nadja Maria Vieira 
 da Silva, PPGP/UFAL, orientadora; Prof. Dr. Henrique Jorge Simões Bezerra
 , UFPB, examinador externo à Instituição; Profa. Dra. Maria Auxiliadora
  Teixeira Ribeiro, PPGP/UFAL, examinadora interna.
CREATED:20210921T130637Z
DESCRIPTION:Banca de Defesa de Dissertação para obtenção do título de
  Mestre de Rodrigo da Silva Almeida\, com o título: “Historiografia das
  práticas da automutilação: produção de sentidos em narrativas de jov
 ens no ensino superior”.\nTítulo em Inglês: “Historiography of self-
 mutilation practices: production of senses in young people's narratives in
  higher education”
LAST-MODIFIED:20250702T221512Z
LOCATION:Webconferência pelo Google Meet
URL:https://ip.ufal.br/pt-br/pos-graduacao/pospsico/institucional/calendar
 io-de-defesas/2021/banca-de-defesa-de-dissertacao-11
END:VEVENT
BEGIN:VTIMEZONE
TZID:America/Maceio
X-LIC-LOCATION:America/Maceio
BEGIN:STANDARD
DTSTART:20020216T230000
TZNAME:-03
TZOFFSETFROM:-0200
TZOFFSETTO:-0300
END:STANDARD
END:VTIMEZONE
END:VCALENDAR
