BEGIN:VCALENDAR
VERSION:2.0
PRODID:-//Plone.org//NONSGML plone.app.event//EN
X-WR-TIMEZONE:America/Maceio
BEGIN:VEVENT
SUMMARY:Banca de Defesa de Dissertação
DTSTART;TZID=America/Maceio:20210716T140000
DTEND;TZID=America/Maceio:20210716T160000
DTSTAMP:20260421T085526Z
UID:beed6b03fe4f40778f6d1767564f726f@ip.ufal.br
ATTENDEE;CN="Profa. Dra. Susane Vasconcelos Zanotti, PPGP/UFAL, orientador
 a; Profa. Dra. Maria Angélica Augusto de Mello Pisetta, UFF, examinadora 
 externa à Instituição; Prof. Dr. Charles Elias Lang, PPGP/UFAL, examina
 dor interno.";ROLE=REQ-PARTICIPANT:Profa. Dra. Susane Vasconcelos Zanotti,
  PPGP/UFAL, orientadora; Profa. Dra. Maria Angélica Augusto de Mello Pise
 tta, UFF, examinadora externa à Instituição; Prof. Dr. Charles Elias La
 ng, PPGP/UFAL, examinador interno.
CREATED:20210921T125729Z
DESCRIPTION:Banca de Defesa de Dissertação para obtenção do título de
  Mestre de Layla de Albuquerque Borges\, com o título: "Diagnósticos na 
 Escolarização: uma leitura psicanalítica de discursos sobre os adolesce
 ntes".\n\nTítulo em Inglês: "Diagnoses in Schooling: a psychoanalytic re
 ading of discourses about adolescents"
LAST-MODIFIED:20250702T221512Z
LOCATION:Webconferência pelo Google Meet
URL:https://ip.ufal.br/pt-br/pos-graduacao/pospsico/institucional/calendar
 io-de-defesas/2021/banca-de-defesa-de-dissertacao-10
END:VEVENT
BEGIN:VTIMEZONE
TZID:America/Maceio
X-LIC-LOCATION:America/Maceio
BEGIN:STANDARD
DTSTART:20020216T230000
TZNAME:-03
TZOFFSETFROM:-0200
TZOFFSETTO:-0300
END:STANDARD
END:VTIMEZONE
END:VCALENDAR
