BEGIN:VCALENDAR
VERSION:2.0
PRODID:-//Plone.org//NONSGML plone.app.event//EN
X-WR-TIMEZONE:America/Maceio
BEGIN:VEVENT
SUMMARY:Banca de Defesa de Dissertação
DTSTART;TZID=America/Maceio:20210127T143000
DTEND;TZID=America/Maceio:20210127T163000
DTSTAMP:20260421T085526Z
UID:41216649f4f24e209851e9f2146bf194@ip.ufal.br
ATTENDEE;CN="Profa. Dra. Nadja Maria Vieira da Silva, PPGP/UFAL, orientado
 ra;";ROLE=REQ-PARTICIPANT:Profa. Dra. Nadja Maria Vieira da Silva, PPGP/UF
 AL, orientadora;
ATTENDEE;CN="Profa. Dra. Rita de Cássia Souto Maior de Siqueira Lima, FAL
 E/UFAL, examinadora externa ao Programa;";ROLE=REQ-PARTICIPANT:Profa. Dra.
  Rita de Cássia Souto Maior de Siqueira Lima, FALE/UFAL, examinadora exte
 rna ao Programa;
ATTENDEE;CN="Profa. Dra. Angelina Nunes de Vasconcelos, PPGP/UFAL, examina
 dora interna.";ROLE=REQ-PARTICIPANT:Profa. Dra. Angelina Nunes de Vasconce
 los, PPGP/UFAL, examinadora interna.
CREATED:20210112T165859Z
DESCRIPTION:Banca de Defesa de Dissertação para obtenção do título de
  Mestre de Bárbara de Miranda Abreu\, com o título: "Embodiment em metá
 foras: Psicologia Cultural nas práticas de Kung Fu”\n\nTítulo em Ingl
 ês: "Embodiment in Metaphors: Cultural Psychology in Kung Fu Pratices"
LAST-MODIFIED:20250702T221511Z
LOCATION:Webconferência pelo Google Meet
URL:https://ip.ufal.br/pt-br/pos-graduacao/pospsico/institucional/calendar
 io-de-defesas/2021/banca-de-defesa-de-dissertacao-1
END:VEVENT
BEGIN:VTIMEZONE
TZID:America/Maceio
X-LIC-LOCATION:America/Maceio
BEGIN:STANDARD
DTSTART:20020216T230000
TZNAME:-03
TZOFFSETFROM:-0200
TZOFFSETTO:-0300
END:STANDARD
END:VTIMEZONE
END:VCALENDAR
