BEGIN:VCALENDAR
VERSION:2.0
PRODID:-//Plone.org//NONSGML plone.app.event//EN
X-WR-TIMEZONE:America/Maceio
BEGIN:VEVENT
SUMMARY:DISCIPLINA POLÍTICAS PÚBLICAS E DEMOCRACIA
DTSTART;TZID=America/Maceio:20150422T090000
DTEND;TZID=America/Maceio:20150429T120000
DTSTAMP:20260420T182925Z
UID:b4b2fe3f97494fe080200c46918c3c42@ip.ufal.br
CREATED:20150416T182453Z
DESCRIPTION:O Programa de Pós-graduação em Psicologia informa que está
  aberto o Período Inscrição para disciplina Políticas Públicas e Demo
 cracia a ser ministrada pelo Prof. Frederico Alves Costa.\nA disciplina di
 scutirá sobre o modo em que as Políticas Públicas têm sido debatidas n
 a Psicologia\, mais especificamente\, na Psicologia Social. \nAs inscriç
 ões ocorrerão entre os dias 13 e 17 de abril\, a disciplina terá carga 
 horária de 15 horas. As aulas serão realizadas no período da manhã\, n
 os dias 22\, 24\,27\, 28 e 29 de abril.  \n
LAST-MODIFIED:20250702T221515Z
URL:https://ip.ufal.br/pt-br/pos-graduacao/pospsico/institucional/agenda-d
 o-mestrado/2015/disciplina-politicas-publicas-e-democracia
END:VEVENT
BEGIN:VTIMEZONE
TZID:America/Maceio
X-LIC-LOCATION:America/Maceio
BEGIN:STANDARD
DTSTART:20020216T230000
TZNAME:-03
TZOFFSETFROM:-0200
TZOFFSETTO:-0300
END:STANDARD
END:VTIMEZONE
END:VCALENDAR
