BEGIN:VCALENDAR
VERSION:2.0
PRODID:-//Plone.org//NONSGML plone.app.event//EN
X-WR-TIMEZONE:America/Maceio
BEGIN:VEVENT
SUMMARY:CONFERÊNCIA  "PSICANÁLISE E MEDICINA" - PROF. DR. JEAN-LUC GASPA
 RD - UNIVERSIDADE RENNES 2 - FRANÇA
DTSTART;TZID=America/Maceio:20150316T083000
DTEND;TZID=America/Maceio:20150316T121000
DTSTAMP:20260420T232048Z
UID:018bd2e5fd3a48a7a7512d7f671a6118@ip.ufal.br
CREATED:20150417T171116Z
DESCRIPTION:O Instituto de Psicologia\, o Programa de Pós-graduação em 
 Psicologia e o Laboratório de Pesquisas em Psicanálise têm a grata sati
 sfação em convidar docentes e discentes para a Conferência "PSICANÁLIS
 E E MEDICINA"\, com o Prof. Dr. Jean-Luc Gaspard da Universidade Rennes 2 
 - França.\n \nProf. Dr. Jean-Luc Gaspard\nUniversidade Rennes 2\, França
 \n \nData: 16/03/15\n\n Horário: 08:30h \nLocal: Auditório do CEDU/U
 FAL
LAST-MODIFIED:20250702T221515Z
URL:https://ip.ufal.br/pt-br/pos-graduacao/pospsico/institucional/agenda-d
 o-mestrado/2015/conferencia-psicanalise-e-medicina-prof-dr-jean-luc-gaspar
 d-universidade-rennes-2-franca
END:VEVENT
BEGIN:VTIMEZONE
TZID:America/Maceio
X-LIC-LOCATION:America/Maceio
BEGIN:STANDARD
DTSTART:20020216T230000
TZNAME:-03
TZOFFSETFROM:-0200
TZOFFSETTO:-0300
END:STANDARD
END:VTIMEZONE
END:VCALENDAR
