BEGIN:VCALENDAR
VERSION:2.0
PRODID:-//Plone.org//NONSGML plone.app.event//EN
X-WR-TIMEZONE:America/Maceio
BEGIN:VEVENT
SUMMARY:CONFERÊNCIA PROFA. DRA. POMPÉIA VILLACHAN LYRA (UFRPE)
DTSTART;TZID=America/Maceio:20150304T083000
DTEND;TZID=America/Maceio:20150304T121000
DTSTAMP:20260420T224453Z
UID:ea2abcfed91e4c3abcae79101fa76ccc@ip.ufal.br
CREATED:20150416T193500Z
DESCRIPTION:Contribuições da perspectiva sócio-histórica para a compre
 ensão do neurodesenvolvimento no início da vida: contribuições para a 
 formação do profissional da educação infantil.\nConferencista: Profa. 
 Dra. Pompéia Villachan Lyra (UFRPE)\nDia 04/03/15 \nHora: 08:30h\nLocal: 
 sala de reunião – Psicologia/prédio ICHCA\n
LAST-MODIFIED:20250702T221515Z
URL:https://ip.ufal.br/pt-br/pos-graduacao/pospsico/institucional/agenda-d
 o-mestrado/2015/conferencia-profa-dra-pompeia-villachan-lyra-ufrpe-1
END:VEVENT
BEGIN:VTIMEZONE
TZID:America/Maceio
X-LIC-LOCATION:America/Maceio
BEGIN:STANDARD
DTSTART:20020216T230000
TZNAME:-03
TZOFFSETFROM:-0200
TZOFFSETTO:-0300
END:STANDARD
END:VTIMEZONE
END:VCALENDAR
