BEGIN:VCALENDAR
VERSION:2.0
PRODID:-//Plone.org//NONSGML plone.app.event//EN
X-WR-TIMEZONE:America/Maceio
BEGIN:VEVENT
SUMMARY:CONFERÊNCIA PROF. DR. ANDRÉ FARO SANTOS (UFS)
DTSTART;TZID=America/Maceio:20150304T143000
DTEND;TZID=America/Maceio:20150304T180000
DTSTAMP:20260420T211204Z
UID:490e1725d21a482cbcfa27b8db6f118f@ip.ufal.br
CREATED:20150416T200118Z
DESCRIPTION:METODOLOGIAS QUANTITATIVAS NA PESQUISA PSICOLÓGICA.\nCONFEREN
 CISTA: PROF. DR. ANDRÉ FARO SANTOS (UFS)\n\nDIA 04/03/15 \n\nHORA: 14:30h
 \n\nLOCAL: SALA DE REUNIÃO – PSICOLOGIA/PRÉDIO ICHCA\n
LAST-MODIFIED:20250702T221515Z
URL:https://ip.ufal.br/pt-br/pos-graduacao/pospsico/institucional/agenda-d
 o-mestrado/2015/conferencia-prof-dr-andre-faro-santos-ufs-1
END:VEVENT
BEGIN:VTIMEZONE
TZID:America/Maceio
X-LIC-LOCATION:America/Maceio
BEGIN:STANDARD
DTSTART:20020216T230000
TZNAME:-03
TZOFFSETFROM:-0200
TZOFFSETTO:-0300
END:STANDARD
END:VTIMEZONE
END:VCALENDAR
