BEGIN:VCALENDAR
VERSION:2.0
PRODID:-//Plone.org//NONSGML plone.app.event//EN
X-WR-TIMEZONE:America/Maceio
BEGIN:VEVENT
SUMMARY:II Encontro de Pesquisas em Saúde\, Clínica e Práticas Psicoló
 gicas
DTSTART;TZID=America/Maceio:20140922T083000
DTEND;TZID=America/Maceio:20140922T120000
DTSTAMP:20260420T151954Z
UID:f196c0f358bc47b4b6a7228915d73fa8@ip.ufal.br
CREATED:20150416T180009Z
DESCRIPTION:O Programa de Pós-graduação em Psicologia (UFAL) tem a honr
 a de convidar todos os docentes e discentes para o II Encontro de Pesquisa
 s em saúde\, clínica e práticas psicológicas. O evento acontecerá no 
 Auditório Paulo Décio do Instituto de Ciências Sociais (ICS) no dia 22/
 09 e terá início às 08:30h.
LAST-MODIFIED:20250702T221515Z
URL:https://ip.ufal.br/pt-br/pos-graduacao/pospsico/institucional/agenda-d
 o-mestrado/2014/ii-encontro-de-pesquisas-em-saude-clinica-e-praticas-psico
 logicas-1
END:VEVENT
BEGIN:VTIMEZONE
TZID:America/Maceio
X-LIC-LOCATION:America/Maceio
BEGIN:STANDARD
DTSTART:20020216T230000
TZNAME:-03
TZOFFSETFROM:-0200
TZOFFSETTO:-0300
END:STANDARD
END:VTIMEZONE
END:VCALENDAR
