BEGIN:VCALENDAR
VERSION:2.0
PRODID:-//Plone.org//NONSGML plone.app.event//EN
X-WR-TIMEZONE:America/Maceio
BEGIN:VEVENT
SUMMARY:CAPsi e PETpsi Ufal convidam para o evento: Diásporas na Formaç
 ão: por escutas e afetos descolonizados
DTSTART;VALUE=DATE:20211020
DTEND;VALUE=DATE:20211022
DTSTAMP:20260424T210048Z
UID:26180cc4406f43bb9207f1ddb9f0caa4@ip.ufal.br
CONTACT:@capsiufal\, @capsiufal\, @capsiufal\, https://www.instagram.com/p
 /CU8lv8fL76k/
CREATED:20211020T140228Z
LAST-MODIFIED:20211020T141455Z
LOCATION:Web
URL:https://ip.ufal.br/pt-br/centro-academico/noticias-e-eventos/capsi-e-p
 etpsi-ufal-convida-para-o-evento-diasporas-na-formacao-por-escutas-e-afeto
 s-descolonizados
END:VEVENT
END:VCALENDAR
